BEGIN:VCALENDAR
VERSION:2.0
CALSCALE:GREGORIAN
PRODID:-//Diputació de Barcelona//DibaCMS//EN
BEGIN:VEVENT
UID:1000
DTSTAMP:20260420T200552
DTSTART:20091206T210000
DTEND:20091206T000000
SUMMARY:Taller d'ornamentació nadalenca 
LOCATION:
METHOD:PUBLISH
X-WR-CALNAME:ullastrell@ullastrell.cat
X-WR-TIMEZONE:Europe/Madrid
DESCRIPTION:Per rebre bé el Nadal, en el taller d'ornamentació es mostrarà les tècniques i bones solucions per decorar la casa i l'arbre perfectament.
 
 Lloc: Sala d'Exposicions CasalOrganitzador: Patronat
URI:https://www.ullastrell.cat/actualitat/agenda/taller-dornamentacio-nadalenca-.html
CLASS:PUBLIC
END:VEVENT
END:VCALENDAR
