BEGIN:VCALENDAR
VERSION:2.0
CALSCALE:GREGORIAN
PRODID:-//Diputació de Barcelona//DibaCMS//EN
BEGIN:VEVENT
UID:1004
DTSTAMP:20260419T192019
DTSTART:20100225T110000
DTEND:20100225T130000
SUMMARY:Oficina mòbil del consumidor - 25/02/2010
LOCATION:
METHOD:PUBLISH
X-WR-CALNAME:ullastrell@ullastrell.cat
X-WR-TIMEZONE:Europe/Madrid
DESCRIPTION:Els tècnics de la Diputació de Barcelona atendran als ciutadans en totes aquelles qüestions o dubtes relacionades amb l'àmbit dels drets del consumidor.Qüestions relacionades amb l'etiquetatge i garanties de productes, compra i lloguer d'habitatges, serveis bancaris, assegurances, compra-venda de vehicles, serveis post-venda, compres fora d'establiment, serveis turístics etc.Lloc: davant de l'AjuntamentOrganitzador: Ajuntament i Diputació de Barcelona
URI:https://www.ullastrell.cat/actualitat/agenda/oficina-mobil-del-consumidor-25022010.html
CLASS:PUBLIC
END:VEVENT
END:VCALENDAR
