BEGIN:VCALENDAR
VERSION:2.0
CALSCALE:GREGORIAN
PRODID:-//Diputació de Barcelona//DibaCMS//EN
BEGIN:VEVENT
UID:1005
DTSTAMP:20260420T163633
DTSTART:20100306T090000
DTEND:20100306T133000
SUMMARY:Deixalleria mòbil - 06/03/2010
LOCATION:
METHOD:PUBLISH
X-WR-CALNAME:ullastrell@ullastrell.cat
X-WR-TIMEZONE:Europe/Madrid
DESCRIPTION:La deixalleria mòbil és un petit centre de recuperació de residus.
És un servei gratuït que es dona  cada primer  dissabte de mes, en el que un camió situat als llocs  indicats, recull  tots aquells materials que no correspon dipositar en  els contenidors  habituals.

Residus perillosos: bombetes i   fluorescents, esprais, bateries de cotxe, piles, pintures i dissolvents,   neveres i frigorífics, olis minerals (de cotxe), radiografies, tòners i   medicaments.
Altres residus: pneumàtics,  ferralla,  electrodomèstics, olis vegetals, vegetals i podes, mobles  vells, runa i  restes d'obres, tèxtil, paper i cartró, ampolles de cava.

 
Novetat! S'ha incorporat una nova parada del  camió, estarà  situat a la plaça Serralavella (zona de la Peça) de 10:50 a  12:15
Lloc: Pl.LLuís Companys ; Pl. Serralavella i Carrer Arquitecte AlsiusOrganitzador: Ajuntament
URI:https://www.ullastrell.cat/actualitat/agenda/deixalleria-mobil-06032010.html
CLASS:PUBLIC
END:VEVENT
END:VCALENDAR
