BEGIN:VCALENDAR
VERSION:2.0
CALSCALE:GREGORIAN
PRODID:-//Diputació de Barcelona//DibaCMS//EN
BEGIN:VEVENT
UID:1006
DTSTAMP:20260419T184029
DTSTART:20100306T170000
DTEND:20100306T203000
SUMMARY:Donació de sang - 06/03/2010
LOCATION:
METHOD:PUBLISH
X-WR-CALNAME:ullastrell@ullastrell.cat
X-WR-TIMEZONE:Europe/Madrid
DESCRIPTION:La donació de sang és un acte senzill, segur, gens dolorós, i assistit per professionals especialitzats en tot moment. Amb la col.laboració de l'Esplai100BambesPer a tu, no comporta cap risc, però, en canvi,  per a malalts de tot el territori, pot suposar avançar en el seu procés  de curació.

Al Banc de Sang i teixits li calen més de 1.000 donacions de sang  al dia per tal de garantir que tots tinguem sang quan ho necessitem:

Per intervencions quirúrgiques 
Per a tractaments oncològics 
Per a trasplantaments 
En cas d'accidents greus 

 
Pots donar sang si tens 18 anys o més i peses 50 quilos o més.
Per donar sang no cal estar en dejú, si tens algun dubte pots  consultar els professionals, sempre s'utilitza material s'un sol ús.
Lloc: Sala exposicions del casalOrganitzador: Banc de Sang i teixits i Esplai 100Bambes
URI:https://www.ullastrell.cat/actualitat/agenda/donacio-de-sang-06032010.html
CLASS:PUBLIC
END:VEVENT
END:VCALENDAR
