BEGIN:VCALENDAR
VERSION:2.0
CALSCALE:GREGORIAN
PRODID:-//Diputació de Barcelona//DibaCMS//EN
BEGIN:VEVENT
UID:1025
DTSTAMP:20260420T103429
DTSTART:20090424T170000
DTEND:20090424T000000
SUMMARY:Un cafè i un llibre per a la gent gran - 24/04/2009
LOCATION:
METHOD:PUBLISH
X-WR-CALNAME:ullastrell@ullastrell.cat
X-WR-TIMEZONE:Europe/Madrid
DESCRIPTION:Un cafè i un llibre per a la gent granLa gent gran es reuneix a la Biblioteca , on se'ls aconsella i es fa una petita tertúlia dels llibres que els agradaria llegir o ja han llegit.Lloc: BibliotecaOrganitzador: Biblioteca Josep Massagué
URI:https://www.ullastrell.cat/actualitat/agenda/un-cafe-i-un-llibre-per-a-la-gent-gran-24042009.html
CLASS:PUBLIC
END:VEVENT
END:VCALENDAR
