BEGIN:VCALENDAR
VERSION:2.0
CALSCALE:GREGORIAN
PRODID:-//Diputació de Barcelona//DibaCMS//EN
BEGIN:VEVENT
UID:1029
DTSTAMP:20260420T123142
DTSTART:20090510T190000
DTEND:20090510T000000
SUMMARY:Mostra de Teatre: "Mentiders"
LOCATION:
METHOD:PUBLISH
X-WR-CALNAME:ullastrell@ullastrell.cat
X-WR-TIMEZONE:Europe/Madrid
DESCRIPTION:Una obra de teatre per riure fortDins la 20a. mostra de teatre, el grup L'escotilló G.T. de Vilanova i la Geltrú, ens presenta l'obra "Mentiders", d'Anthony Neilson. Una obra divertida.Lloc: Sala Actes CasalOrganitzador: GATU
URI:https://www.ullastrell.cat/actualitat/agenda/mostra-de-teatre-mentiders.html
CLASS:PUBLIC
END:VEVENT
END:VCALENDAR
