BEGIN:VCALENDAR
VERSION:2.0
CALSCALE:GREGORIAN
PRODID:-//Diputació de Barcelona//DibaCMS//EN
BEGIN:VEVENT
UID:1030
DTSTAMP:20260420T150246
DTSTART:20090517T190000
DTEND:20090517T000000
SUMMARY:Música: "A cau d'orella"
LOCATION:
METHOD:PUBLISH
X-WR-CALNAME:ullastrell@ullastrell.cat
X-WR-TIMEZONE:Europe/Madrid
DESCRIPTION:Cançons marineres amb el grup: A cau d'orellaLloc: Sala Actes CasalOrganitzador: Patronat
URI:https://www.ullastrell.cat/actualitat/agenda/musica-a-cau-dorella.html
CLASS:PUBLIC
END:VEVENT
END:VCALENDAR
