BEGIN:VCALENDAR
VERSION:2.0
CALSCALE:GREGORIAN
PRODID:-//Diputació de Barcelona//DibaCMS//EN
BEGIN:VEVENT
UID:1033
DTSTAMP:20260420T135754
DTSTART:20090607T190000
DTEND:20090607T000000
SUMMARY:Cinema: "Retorno a Hansala"
LOCATION:
METHOD:PUBLISH
X-WR-CALNAME:ullastrell@ullastrell.cat
X-WR-TIMEZONE:Europe/Madrid
DESCRIPTION:Pel.lícula inspirada en fets reals, dirigida per Chus GutierrezNarra el drama dels inmigrans que arriben a les nostres costes en pasteres.
Pel.lícula multipremiada, amb grans interpretacions.Lloc: Sala Actes CasalOrganitzador: Patronat-L'Ull
URI:https://www.ullastrell.cat/actualitat/agenda/cinema-retorno-a-hansala.html
CLASS:PUBLIC
END:VEVENT
END:VCALENDAR
