BEGIN:VCALENDAR
VERSION:2.0
CALSCALE:GREGORIAN
PRODID:-//Diputació de Barcelona//DibaCMS//EN
BEGIN:VEVENT
UID:1036
DTSTAMP:20260420T092746
DTSTART:20090614T000000
DTEND:20090614T000000
SUMMARY:Teatre: Sandra Miller"
LOCATION:
METHOD:PUBLISH
X-WR-CALNAME:ullastrell@ullastrell.cat
X-WR-TIMEZONE:Europe/Madrid
DESCRIPTION:El grup de joves del GATU aniran a Terrassa a interprentar l'obra " Sandra Miller"El grup de joves del GATU, interpretaran l'obra " Sandra Miller" estrenada el passat NadalLloc: Teatre Alegria: Sala Maria PlansOrganitzador: GATU 
URI:https://www.ullastrell.cat/actualitat/agenda/teatre-sandra-miller.html
CLASS:PUBLIC
END:VEVENT
END:VCALENDAR
