BEGIN:VCALENDAR
VERSION:2.0
CALSCALE:GREGORIAN
PRODID:-//Diputació de Barcelona//DibaCMS//EN
BEGIN:VEVENT
UID:1044
DTSTAMP:20260420T144323
DTSTART:20090725T220000
DTEND:20090725T000000
SUMMARY:Cinema a la fresca "Cuentos de Terramar"
LOCATION:
METHOD:PUBLISH
X-WR-CALNAME:ullastrell@ullastrell.cat
X-WR-TIMEZONE:Europe/Madrid
DESCRIPTION:Cinema a la fresca " Cuentos deTerramar"Cinema a la fresca us ofereix gratuïtament la pel.lícula " Cuentos de Terramar" dirigida per Goro MiyazakiLloc: pista poliesportivaOrganitzador: Patronat-L'Ull
URI:https://www.ullastrell.cat/actualitat/agenda/cinema-a-la-fresca-cuentos-de-terramar.html
CLASS:PUBLIC
END:VEVENT
END:VCALENDAR
