BEGIN:VCALENDAR
VERSION:2.0
CALSCALE:GREGORIAN
PRODID:-//Diputació de Barcelona//DibaCMS//EN
BEGIN:VEVENT
UID:1045
DTSTAMP:20260420T122412
DTSTART:20090801T220000
DTEND:20090801T000000
SUMMARY:Cinema a la fresca "Planeta Blanco"
LOCATION:
METHOD:PUBLISH
X-WR-CALNAME:ullastrell@ullastrell.cat
X-WR-TIMEZONE:Europe/Madrid
DESCRIPTION:Cinema en DVD / gratuït / Any: 2006 / Duració: 86 min. / Director: Thierry Piantanida, Thierry Ragobert, Jean Lemire / Apte per a tots els públics.Documental. Naturaleza / SINOPSIS: Algunos de los lugares más extremos de la Tierra como Alaska, Québec o Groenlandia albergan una fauna única que ha sabido sobrevivir a las condiciones más duras. Este documental ofrece imágenes espectaculares como la vida de las pequeñas belugas, ballenas de color blanco, que se mueven a la vez, y que ofrecen una especie de baile ceremonial en la profundidad del océano Ártico o los primeros momentos en la vida de dos crías de oso blanco que se mueven por el hielo. El esplendor y la magnitud de un mundo helado con fantásticos seres nunca antes filmados.Lloc: Pista poliesportivaOrganitzador: Patronat / L'Ull
URI:https://www.ullastrell.cat/actualitat/agenda/cinema-a-la-fresca-planeta-blanco.html
CLASS:PUBLIC
END:VEVENT
END:VCALENDAR
