BEGIN:VCALENDAR
VERSION:2.0
CALSCALE:GREGORIAN
PRODID:-//Diputació de Barcelona//DibaCMS//EN
BEGIN:VEVENT
UID:1046
DTSTAMP:20260420T091746
DTSTART:20090711T000000
DTEND:20090711T000000
SUMMARY:Sortida gegantera - 11/07/2009
LOCATION:
METHOD:PUBLISH
X-WR-CALNAME:ullastrell@ullastrell.cat
X-WR-TIMEZONE:Europe/Madrid
DESCRIPTION:Sortida geganteraEls geganters i grallers d'Ullastrell sortiran a passejar els nostres gegants " Serralavella " i " Bacus"Lloc: Santa Maria de Corcó " L'esquirol"Organitzador: Geganters d'Ullastrell
URI:https://www.ullastrell.cat/actualitat/agenda/sortida-gegantera-11072009.html
CLASS:PUBLIC
END:VEVENT
END:VCALENDAR
