BEGIN:VCALENDAR
VERSION:2.0
CALSCALE:GREGORIAN
PRODID:-//Diputació de Barcelona//DibaCMS//EN
BEGIN:VEVENT
UID:1050
DTSTAMP:20260420T133057
DTSTART:20090715T203000
DTEND:20090715T223000
SUMMARY:Cicle xerrades "La relació que s'estableix entre els diferents contextos de la vida de l'infant"
LOCATION:
METHOD:PUBLISH
X-WR-CALNAME:ullastrell@ullastrell.cat
X-WR-TIMEZONE:Europe/Madrid
DESCRIPTION:Cicle de xerrades sobre el desenvolupament de l'infant.La relació que s'estableix entre els diferents contextos de la vida de l'infant: Tracta de la influència que tenen altres àmbits en l'infant més enllà de l'àmbit familiar. També tracta sobre la incidència que tenen els mitjans de comunicació.Lloc: LLar d'Infants El CucutOrganitzador: Ampa el Cucut / LLar Els Menuts
URI:https://www.ullastrell.cat/actualitat/agenda/cicle-xerrades-la-relacio-que-sestableix-entre-els-diferents-contextos-de-la-vida-de-linfant.html
CLASS:PUBLIC
END:VEVENT
END:VCALENDAR
