BEGIN:VCALENDAR
VERSION:2.0
CALSCALE:GREGORIAN
PRODID:-//Diputació de Barcelona//DibaCMS//EN
BEGIN:VEVENT
UID:1051
DTSTAMP:20260420T144230
DTSTART:20090906T190000
DTEND:20090906T000000
SUMMARY:Cinema: "Los viajes de Sullivan"
LOCATION:
METHOD:PUBLISH
X-WR-CALNAME:ullastrell@ullastrell.cat
X-WR-TIMEZONE:Europe/Madrid
DESCRIPTION:Cinema / gratuït / Any: 1941 / Duració: 90 min. / Director: Preston Sturges.Comedia / SINÒPSIS: El director de cine John L. Sullivan somia amb rodar una pel·lícula sobre el sufriment dels necessitats, així que convenç als executius de l'estudi que li permetin recòrrer el país disfrassat de vagabund. Després de treballar com a peó per una víuda que té pensat per ell alguna cosa més que tallar llenya, s'escapa de casa d'aquesta a la nit, però el camió que el recull el porta de tornada a Hollywood. Frustrat pel seu fracàs, Sully entra en una cafeteria i coneix una actriu rossa, que decideix vestir-se d'home i unir-se a ell en l'experiment.
 
Amb  	Joel McCrea i Veronica Lak, una meravellosa pel.lícula, tot un clàssic del cinema daurat de Hollywood dels anys 40.Lloc: Sala Actes CasalOrganitzador: Patronat-L'Ull
URI:https://www.ullastrell.cat/actualitat/agenda/cinema-los-viajes-de-sullivan.html
CLASS:PUBLIC
END:VEVENT
END:VCALENDAR
