BEGIN:VCALENDAR
VERSION:2.0
CALSCALE:GREGORIAN
PRODID:-//Diputació de Barcelona//DibaCMS//EN
BEGIN:VEVENT
UID:1054
DTSTAMP:20260420T103223
DTSTART:20090920T190000
DTEND:20090920T000000
SUMMARY:Música: "The Marvelous Soul Gang"
LOCATION:
METHOD:PUBLISH
X-WR-CALNAME:ullastrell@ullastrell.cat
X-WR-TIMEZONE:Europe/Madrid
DESCRIPTION:Música soulNo us perdeu "The Marvelous Soul Gang" una formació que de ben segur us farà gaudir de la màgia de la música negra.Lloc: Sala Actes CasalOrganitzador: Patronat
URI:https://www.ullastrell.cat/actualitat/agenda/musica-the-marvelous-soul-gang.html
CLASS:PUBLIC
END:VEVENT
END:VCALENDAR
