BEGIN:VCALENDAR
VERSION:2.0
CALSCALE:GREGORIAN
PRODID:-//Diputació de Barcelona//DibaCMS//EN
BEGIN:VEVENT
UID:1055
DTSTAMP:20260419T234547
DTSTART:20091014T200000
DTEND:20091014T000000
SUMMARY:Música: "Big Mama"
LOCATION:
METHOD:PUBLISH
X-WR-CALNAME:ullastrell@ullastrell.cat
X-WR-TIMEZONE:Europe/Madrid
DESCRIPTION:Recital musical i narratiu sobre blues i jazzEl Bibliobús La Mola acull el recital musical i narratiu que ha preparat la cantant de blues i jazz Big Mama.
L'espectacle fa un repàs per la música original dels primers habitants negres nord-americans, i es fa ressó de la seva rebel·lió i lluita per la llibertat.
Durant el recital la intérpret també dóna a conéixer llibres i enregistraments sobre el jazz i el blues que el públic podrà trobar als bibliobusos.Lloc: Sala Actes CasalOrganitzador: Bibliobús La Mola
URI:https://www.ullastrell.cat/actualitat/agenda/musica-big-mama.html
CLASS:PUBLIC
END:VEVENT
END:VCALENDAR
