BEGIN:VCALENDAR
VERSION:2.0
CALSCALE:GREGORIAN
PRODID:-//Diputació de Barcelona//DibaCMS//EN
BEGIN:VEVENT
UID:1056
DTSTAMP:20260420T152330
DTSTART:20090911T190000
DTEND:20090911T000000
SUMMARY:Música: Cantada d'havaneres "Xarxa"
LOCATION:
METHOD:PUBLISH
X-WR-CALNAME:ullastrell@ullastrell.cat
X-WR-TIMEZONE:Europe/Madrid
DESCRIPTION:Cantada d'Havaneres per celebrar la diada de Catalunya.El Grup Xarxa, ens oferirà el seu repertori d'havaneres.
 Lloc: Sala Actes CasalOrganitzador: Ajuntament
URI:https://www.ullastrell.cat/actualitat/agenda/musica-cantada-dhavaneres-xarxa.html
CLASS:PUBLIC
END:VEVENT
END:VCALENDAR
