BEGIN:VCALENDAR
VERSION:2.0
CALSCALE:GREGORIAN
PRODID:-//Diputació de Barcelona//DibaCMS//EN
BEGIN:VEVENT
UID:1060
DTSTAMP:20260419T191400
DTSTART:20091018T180000
DTEND:20091018T000000
SUMMARY:Pallassos: Cia. La Tal en concert
LOCATION:
METHOD:PUBLISH
X-WR-CALNAME:ullastrell@ullastrell.cat
X-WR-TIMEZONE:Europe/Madrid
DESCRIPTION:Programació infantilDins de la programació mensual d'espectacles, n'hi ha un dedicat especialment al públic infantil, però que gaudeixen tant grans com petits.
 
 Lloc: Sala Actes CasalOrganitzador: Patronat
URI:https://www.ullastrell.cat/actualitat/agenda/pallassos-cia-la-tal-en-concert.html
CLASS:PUBLIC
END:VEVENT
END:VCALENDAR
