BEGIN:VCALENDAR
VERSION:2.0
CALSCALE:GREGORIAN
PRODID:-//Diputació de Barcelona//DibaCMS//EN
BEGIN:VEVENT
UID:1061
DTSTAMP:20260419T184957
DTSTART:20091029T180000
DTEND:20091029T000000
SUMMARY:L'hora del conte - 29/10/2009
LOCATION:
METHOD:PUBLISH
X-WR-CALNAME:ullastrell@ullastrell.cat
X-WR-TIMEZONE:Europe/Madrid
DESCRIPTION:L'hora de conteElisabeth Ulibarri, ens explicarà històries molt interessants.
Una ocasió fantàstica perquè els petits es familiaritzin en el mon dels llibres , la biblioteca.Lloc: BibliotecaOrganitzador: Biblioteca Josep Massagué
URI:https://www.ullastrell.cat/actualitat/agenda/lhora-del-conte-29102009.html
CLASS:PUBLIC
END:VEVENT
END:VCALENDAR
