BEGIN:VCALENDAR
VERSION:2.0
CALSCALE:GREGORIAN
PRODID:-//Diputació de Barcelona//DibaCMS//EN
BEGIN:VEVENT
UID:1064
DTSTAMP:20260420T164115
DTSTART:20091108T190000
DTEND:20091108T000000
SUMMARY:Música: "Trio Bonanova"
LOCATION:
METHOD:PUBLISH
X-WR-CALNAME:ullastrell@ullastrell.cat
X-WR-TIMEZONE:Europe/Madrid
DESCRIPTION:Sessió musical a càrrec del Trio BonanovaEl Trio Bonanova està format per la coneguda soprano Teresa Vert, del tenor Gabriel Blanco, acompanyats al piano per Dani Garcia.Lloc: Sala Actes CasalOrganitzador: Patronat
URI:https://www.ullastrell.cat/actualitat/agenda/musica-trio-bonanova.html
CLASS:PUBLIC
END:VEVENT
END:VCALENDAR
