BEGIN:VCALENDAR
VERSION:2.0
CALSCALE:GREGORIAN
PRODID:-//Diputació de Barcelona//DibaCMS//EN
BEGIN:VEVENT
UID:1067
DTSTAMP:20260420T150205
DTSTART:20091129T000000
DTEND:20091129T000000
SUMMARY:XXI Mostra de Teatre
LOCATION:
METHOD:PUBLISH
X-WR-CALNAME:ullastrell@ullastrell.cat
X-WR-TIMEZONE:Europe/Madrid
DESCRIPTION:Dins la XXI Mostra de Teatre que organitza el G.A.T.U. (Grup Amics del Teatre d'Ullastrell), es representarà l'obra: M.A.M. de la Companyia de Toni Albà.Lloc: Sala Actes CasalOrganitzador: GATU
URI:https://www.ullastrell.cat/actualitat/agenda/xxi-mostra-de-teatre.html
CLASS:PUBLIC
END:VEVENT
END:VCALENDAR
