BEGIN:VCALENDAR
VERSION:2.0
CALSCALE:GREGORIAN
PRODID:-//Diputació de Barcelona//DibaCMS//EN
BEGIN:VEVENT
UID:1068
DTSTAMP:20260419T192143
DTSTART:20091126T180000
DTEND:20091126T000000
SUMMARY:L'hora del conte - 26/11/2009
LOCATION:
METHOD:PUBLISH
X-WR-CALNAME:ullastrell@ullastrell.cat
X-WR-TIMEZONE:Europe/Madrid
DESCRIPTION:L'hora del conteL'Anna Garcia acompanyada pel seu acordió diatònic vindrà per explicar-nos contes com " El llit antic de l'àvia" o "Elmer".Lloc: Biblioteca Josep MassaguéOrganitzador: Biblioteca Josep Massagué
URI:https://www.ullastrell.cat/actualitat/agenda/lhora-del-conte-26112009.html
CLASS:PUBLIC
END:VEVENT
END:VCALENDAR
