BEGIN:VCALENDAR
VERSION:2.0
CALSCALE:GREGORIAN
PRODID:-//Diputació de Barcelona//DibaCMS//EN
BEGIN:VEVENT
UID:1070
DTSTAMP:20260420T182527
DTSTART:20091208T190000
DTEND:20091208T000000
SUMMARY:Cinema: “Cataluña Espanya” 
LOCATION:
METHOD:PUBLISH
X-WR-CALNAME:ullastrell@ullastrell.cat
X-WR-TIMEZONE:Europe/Madrid
DESCRIPTION:Cinema / Any: 2009 / Duració: 77 min. / Director: Isona Passola.SINÒPSIS: Avui és més necessari que mai que els catalans ens expliquem aquí i a fora. Fins a aquest moment, sembla que no s’hagi trobat la manera de que Catalunya i Espanya encaixin. La desinformació, el desconeixement i la poca difusió de la realitat catalana a la resta de l’Estat, fan que sigui necessari, ara més que mai, un esforç de reflexió de la societat civil. El diàleg s’ha d’obrir en un horitzó modern i europeu.
 
Volem, com ho va fer La Pelota Vasca de Julio Medem, en el seu moment, empènyer a la reflexió amb la visió serena de pensadors de totes les tendències, més que amb la dels polítics, que tenen tot l’espai en els mitjans. Des de Toni Soler a Xavier Rubert de Ventós, passant per Albert Boadella; de José Alcalá-Zamora y Queipo de Llano a Luis María Ansón, passant per l’humorista Máximo, i més de quaranta homes i dones RAONANT i SACSEJANT els nostres prejudicis, sobre el sentit dels Estats i de les Nacions, ara que ja és el futur!
 Lloc: Sala d'Actes del CasalOrganitzador: Ullastrell També Decideix
URI:https://www.ullastrell.cat/actualitat/agenda/cinema-cataluna-espanya-.html
CLASS:PUBLIC
END:VEVENT
END:VCALENDAR
