BEGIN:VCALENDAR
VERSION:2.0
CALSCALE:GREGORIAN
PRODID:-//Diputació de Barcelona//DibaCMS//EN
BEGIN:VEVENT
UID:1071
DTSTAMP:20260419T192518
DTSTART:20091212T190000
DTEND:20091212T000000
SUMMARY:Tarda de poesia
LOCATION:
METHOD:PUBLISH
X-WR-CALNAME:ullastrell@ullastrell.cat
X-WR-TIMEZONE:Europe/Madrid
DESCRIPTION:Lectura popular de poesies per la Llibertat de Catalunya. Poemes musicats amb Marcel Maronas i Jan Díaz.
 
 Lloc: Biblioteca J. MassaguéOrganitzador: Ullastrell També Decideix
URI:https://www.ullastrell.cat/actualitat/agenda/tarda-de-poesia.html
CLASS:PUBLIC
END:VEVENT
END:VCALENDAR
