BEGIN:VCALENDAR
VERSION:2.0
CALSCALE:GREGORIAN
PRODID:-//Diputació de Barcelona//DibaCMS//EN
BEGIN:VEVENT
UID:1072
DTSTAMP:20260420T214702
DTSTART:20091213T190000
DTEND:20091213T000000
SUMMARY:XXI Mostra de Teatre: "Fuita"
LOCATION:
METHOD:PUBLISH
X-WR-CALNAME:ullastrell@ullastrell.cat
X-WR-TIMEZONE:Europe/Madrid
DESCRIPTION:Adaptació de la comèdia de Jordi Galzeran.SINOPSI: Fuita parteix de la imatge d'un home que està decidint en quin punt del cap ha de recolzar la pistola que utilitzarà per suïcidar-se. En aquest crucial moment rep la visita d'una venedora, comença un joc amb els millors elements de la comèdia, on cap personatge és el què sembla.
 
REPARTIMENT:
Tuti Carmona - VICENTA
Maria Font - IOLANDA
Claudi Puig - ISIDRE
Joan Puig - MANOLO
Lluís Gómez - MARIANOLloc: Sala d'Actes del CasalOrganitzador: GATU
URI:https://www.ullastrell.cat/actualitat/agenda/xxi-mostra-de-teatre-fuita.html
CLASS:PUBLIC
END:VEVENT
END:VCALENDAR
