BEGIN:VCALENDAR
VERSION:2.0
CALSCALE:GREGORIAN
PRODID:-//Diputació de Barcelona//DibaCMS//EN
BEGIN:VEVENT
UID:1075
DTSTAMP:20260419T165756
DTSTART:20091220T190000
DTEND:20091220T000000
SUMMARY:Cinema: "Cuento de Navidad" 
LOCATION:
METHOD:PUBLISH
X-WR-CALNAME:ullastrell@ullastrell.cat
X-WR-TIMEZONE:Europe/Madrid
DESCRIPTION:Projecció de la pel.lícula "Cuento de Navidad"Pel.lícula d'animació, en el que el vell Ebenezer Scrooge es nega a celebrar el Nadal. No li importen els altres, només la feina i ell mateix ...
 
 Lloc: Sala Actes CasalOrganitzador: Patronat
URI:https://www.ullastrell.cat/actualitat/agenda/cinema-cuento-de-navidad-.html
CLASS:PUBLIC
END:VEVENT
END:VCALENDAR
