BEGIN:VCALENDAR
VERSION:2.0
CALSCALE:GREGORIAN
PRODID:-//Diputació de Barcelona//DibaCMS//EN
BEGIN:VEVENT
UID:1076
DTSTAMP:20260419T152522
DTSTART:20091225T200000
DTEND:20091225T000000
SUMMARY:XXI Mostra de Teatre: "Dos galls en un galliner" i "Un conte d'angels i dimonis"
LOCATION:
METHOD:PUBLISH
X-WR-CALNAME:ullastrell@ullastrell.cat
X-WR-TIMEZONE:Europe/Madrid
DESCRIPTION:XXI Mostra de teatreEls més joves del Gatu, ens presentaran aquestes dues obres que han preparat amb molta il.lusió, tots ells dirigits per la Roser Anglada i la Pepa Montes.
 Lloc: Sala Actes CasalOrganitzador: GATU
URI:https://www.ullastrell.cat/actualitat/agenda/xxi-mostra-de-teatre-dos-galls-en-un-galliner-i-un-conte-dangels-i-dimonis.html
CLASS:PUBLIC
END:VEVENT
END:VCALENDAR
