BEGIN:VCALENDAR
VERSION:2.0
CALSCALE:GREGORIAN
PRODID:-//Diputació de Barcelona//DibaCMS//EN
BEGIN:VEVENT
UID:1077
DTSTAMP:20260419T152804
DTSTART:20091226T000000
DTEND:20091226T000000
SUMMARY:Concert de Sant Esteve - 26/12/2009
LOCATION:
METHOD:PUBLISH
X-WR-CALNAME:ullastrell@ullastrell.cat
X-WR-TIMEZONE:Europe/Madrid
DESCRIPTION:Tradicional concert de NadalLa Coral d'Ullastrell, ofereix el seu repertori de gala en les cançons de Nadal, en el seu concert de"  Nadal arreu del món."Lloc: Sala Actes CasalOrganitzador: Coral d'Ullastrell
URI:https://www.ullastrell.cat/actualitat/agenda/concert-de-sant-esteve-26122009.html
CLASS:PUBLIC
END:VEVENT
END:VCALENDAR
