BEGIN:VCALENDAR
VERSION:2.0
CALSCALE:GREGORIAN
PRODID:-//Diputació de Barcelona//DibaCMS//EN
BEGIN:VEVENT
UID:1078
DTSTAMP:20260419T153158
DTSTART:20091227T190000
DTEND:20091227T000000
SUMMARY:Cinema: El secreto de sus ojos
LOCATION:
METHOD:PUBLISH
X-WR-CALNAME:ullastrell@ullastrell.cat
X-WR-TIMEZONE:Europe/Madrid
DESCRIPTION:Cinema: El secreto de sus ojos" El secreto de sus ojos" pel.lícula argentina dirigida per Juan José Campanella, interprentada per: Ricardo Darín, Soledad Villamil, Pablo Rago, Javier Godino i la participació especial de Guillermo Francella.
Un crim sense resoldre, Una història d'amor, un final sense escriure...
Un funcionari d'un Jutjat decideix escriure una novel.la amb un crim i un fets que van passar l'any 1974 a  l'Argentina, que en aquella epoca vivia uns temps difícils.Lloc: Sala Actes CasalOrganitzador: Patronat
URI:https://www.ullastrell.cat/actualitat/agenda/cinema-el-secreto-de-sus-ojos.html
CLASS:PUBLIC
END:VEVENT
END:VCALENDAR
