BEGIN:VCALENDAR
VERSION:2.0
CALSCALE:GREGORIAN
PRODID:-//Diputació de Barcelona//DibaCMS//EN
BEGIN:VEVENT
UID:1081
DTSTAMP:20260419T184234
DTSTART:20100117T190000
DTEND:20100117T000000
SUMMARY:Música: "Grup Musical Panoràmica"
LOCATION:
METHOD:PUBLISH
X-WR-CALNAME:ullastrell@ullastrell.cat
X-WR-TIMEZONE:Europe/Madrid
DESCRIPTION:Tarda musical.Tarda musical amb el grup musical Panoràmica.
 
 Lloc: Sala Actes CasalOrganitzador: Patronat
URI:https://www.ullastrell.cat/actualitat/agenda/musica-grup-musical-panoramica.html
CLASS:PUBLIC
END:VEVENT
END:VCALENDAR
