BEGIN:VCALENDAR
VERSION:2.0
CALSCALE:GREGORIAN
PRODID:-//Diputació de Barcelona//DibaCMS//EN
BEGIN:VEVENT
UID:1083
DTSTAMP:20260419T185013
DTSTART:20100131T190000
DTEND:20100131T000000
SUMMARY:XXI Mostra de Teatre: "La Pepa Maca"
LOCATION:
METHOD:PUBLISH
X-WR-CALNAME:ullastrell@ullastrell.cat
X-WR-TIMEZONE:Europe/Madrid
DESCRIPTION:XXI Mostra de Teatre amateurEls membres del Casal de la Gent Gran de Sant Pere de Terrassa, ens oferiran l'obra "La Pepa Maca".
 Lloc: Sala Actes CasalOrganitzador: GATU
URI:https://www.ullastrell.cat/actualitat/agenda/xxi-mostra-de-teatre-la-pepa-maca.html
CLASS:PUBLIC
END:VEVENT
END:VCALENDAR
