BEGIN:VCALENDAR
VERSION:2.0
CALSCALE:GREGORIAN
PRODID:-//Diputació de Barcelona//DibaCMS//EN
BEGIN:VEVENT
UID:1084
DTSTAMP:20260419T174037
DTSTART:20100124T170000
DTEND:20100124T000000
SUMMARY:Excursió: "Pastorets de Calaf"
LOCATION:
METHOD:PUBLISH
X-WR-CALNAME:ullastrell@ullastrell.cat
X-WR-TIMEZONE:Europe/Madrid
DESCRIPTION:Per celebrar el gran èxit de les obres locals el GATU anirà a visitar els "Pastorets de Calaf".
 
Lloc: CalafOrganitzador: GATU
URI:https://www.ullastrell.cat/actualitat/agenda/excursio-pastorets-de-calaf.html
CLASS:PUBLIC
END:VEVENT
END:VCALENDAR
