BEGIN:VCALENDAR
VERSION:2.0
CALSCALE:GREGORIAN
PRODID:-//Diputació de Barcelona//DibaCMS//EN
BEGIN:VEVENT
UID:1085
DTSTAMP:20260419T191159
DTSTART:20100207T190000
DTEND:20100207T000000
SUMMARY:Cinema: "Bienvenido Mr. Chance"
LOCATION:
METHOD:PUBLISH
X-WR-CALNAME:ullastrell@ullastrell.cat
X-WR-TIMEZONE:Europe/Madrid
DESCRIPTION:Cinema / Any: 1979 / Duració: 130 min. / Director: Hal Ashby. 1 Òscar al millor actor secundari (Melvyn Douglas)Comèdia. Drama / Sinòpsis: Chance és un home peculiar. La seva vida es reduïx a cuidar el jardí de la mansió d'un home adinerat i a veure la televisió tot el dia. Quan l'amo de la casa mor, Chance és acomiadat i exposat a una vida exterior que no coneix. Aviat es trobarà amb Eve, una bona dona que l’acull. A poc a poc, aquest home analfabet aconseguirà enganyar a molts fent-los creure que és un gran polític. (FILMAFFINITY)Lloc: Sala Actes CasalOrganitzador: Patronat-L'Ull
URI:https://www.ullastrell.cat/actualitat/agenda/cinema-bienvenido-mr-chance.html
CLASS:PUBLIC
END:VEVENT
END:VCALENDAR
