BEGIN:VCALENDAR
VERSION:2.0
CALSCALE:GREGORIAN
PRODID:-//Diputació de Barcelona//DibaCMS//EN
BEGIN:VEVENT
UID:1086
DTSTAMP:20260419T232918
DTSTART:20100214T190000
DTEND:20100214T000000
SUMMARY:Cinema: "Los increibles"
LOCATION:
METHOD:PUBLISH
X-WR-CALNAME:ullastrell@ullastrell.cat
X-WR-TIMEZONE:Europe/Madrid
DESCRIPTION:Cinema / Any: 2004 / Duració: 115 min. / Director: Brad Bird. 2 Oscars: millor pel·lícula d'animació, millor edició de so.Animació. Aventures. Comèdia. Acció. Infantil. Superherois / SINOPSI: Una família de superherois gairebé retirats, que tracten de sobreviure en la dura vida diària, són obligats a tornar a l'acció... simplement per a salvar al món. Bob Paar solia ser un dels més grans superherois del món (conegut com a "Mr. Increïble"), salvava vides i lluitava contra villans diàriament. Han passat 15 anys, i Bob i la seva dona (una famosa ex-superheroína per dret propi) han adoptat una identitat civil i s'han retirat a la perifèria per a dur una vida normal amb els seus tres fills. Bob es dedica a comprovar els terminis de les reclamacions d'assegurances i lluita contra l'avorriment i els michelines. Està desitjant tornar a entrar en acció, així que quan rep una misteriosa comunicació que li ordena dirigir-se a una remota illa per a complir una missió d'alt secret, no l'hi pensa dues vegades. (FILMAFFINITY)Lloc: Sala Actes del casalOrganitzador: Patronat
URI:https://www.ullastrell.cat/actualitat/agenda/cinema-los-increibles.html
CLASS:PUBLIC
END:VEVENT
END:VCALENDAR
