BEGIN:VCALENDAR
VERSION:2.0
CALSCALE:GREGORIAN
PRODID:-//Diputació de Barcelona//DibaCMS//EN
BEGIN:VEVENT
UID:1087
DTSTAMP:20260419T172838
DTSTART:20100221T190000
DTEND:20100221T000000
SUMMARY:XXI Mostra de Teatre: "La nit de Sant Joan"
LOCATION:
METHOD:PUBLISH
X-WR-CALNAME:ullastrell@ullastrell.cat
X-WR-TIMEZONE:Europe/Madrid
DESCRIPTION:XXI Mostra de Teatre AmateurDins la XXI mostra de teatre, el grup PAM de Terrassa, posarà en escena l'obra "La nit de Sant Joan".
 Lloc: Sala Actes CasalOrganitzador: GATU
URI:https://www.ullastrell.cat/actualitat/agenda/xxi-mostra-de-teatre-la-nit-de-sant-joan.html
CLASS:PUBLIC
END:VEVENT
END:VCALENDAR
