BEGIN:VCALENDAR
VERSION:2.0
CALSCALE:GREGORIAN
PRODID:-//Diputació de Barcelona//DibaCMS//EN
BEGIN:VEVENT
UID:1088
DTSTAMP:20260419T170517
DTSTART:20100225T180000
DTEND:20100225T000000
SUMMARY:L'hora del conte - 25/02/2010
LOCATION:
METHOD:PUBLISH
X-WR-CALNAME:ullastrell@ullastrell.cat
X-WR-TIMEZONE:Europe/Madrid
DESCRIPTION:L'hora del conte per a nensLa Biblioteca dins el marc del seu 25è. aniversari, torna a programar una nova edició de l'Hora del Conte, que tant agrada als petits com als grans. Lloc: BibliotecaOrganitzador: Biblioteca Josep Massagué
URI:https://www.ullastrell.cat/actualitat/agenda/lhora-del-conte-25022010.html
CLASS:PUBLIC
END:VEVENT
END:VCALENDAR
