BEGIN:VCALENDAR
VERSION:2.0
CALSCALE:GREGORIAN
PRODID:-//Diputació de Barcelona//DibaCMS//EN
BEGIN:VEVENT
UID:1089
DTSTAMP:20260419T173150
DTSTART:20100226T170000
DTEND:20100226T000000
SUMMARY:Un cafè i un llibre per a la gent gran - 26/02/2010
LOCATION:
METHOD:PUBLISH
X-WR-CALNAME:ullastrell@ullastrell.cat
X-WR-TIMEZONE:Europe/Madrid
DESCRIPTION:Un cafè i un llibre per a la gent granUn cafè i un llibre per a la gent gran, és un espai on els més grans es troben i busquen els llibres més adients per ells.
 Lloc: BibliotecaOrganitzador: Biblioteca Josep Massagué
URI:https://www.ullastrell.cat/actualitat/agenda/un-cafe-i-un-llibre-per-a-la-gent-gran-26022010.html
CLASS:PUBLIC
END:VEVENT
END:VCALENDAR
