BEGIN:VCALENDAR
VERSION:2.0
CALSCALE:GREGORIAN
PRODID:-//Diputació de Barcelona//DibaCMS//EN
BEGIN:VEVENT
UID:1090
DTSTAMP:20260419T161445
DTSTART:20100228T180000
DTEND:20100228T000000
SUMMARY:Espectacle infantil: "Hi havia una vegada una cançó"
LOCATION:
METHOD:PUBLISH
X-WR-CALNAME:ullastrell@ullastrell.cat
X-WR-TIMEZONE:Europe/Madrid
DESCRIPTION:Espectacle infantilLa companyia "Ja hi som dos" ens interpretarà el seu espectacle "Hi havia una vegada una cançó".
 Lloc: Sala Actes CasalOrganitzador: Patronat
URI:https://www.ullastrell.cat/actualitat/agenda/espectacle-infantil-hi-havia-una-vegada-una-canco.html
CLASS:PUBLIC
END:VEVENT
END:VCALENDAR
