BEGIN:VCALENDAR
VERSION:2.0
CALSCALE:GREGORIAN
PRODID:-//Diputació de Barcelona//DibaCMS//EN
BEGIN:VEVENT
UID:1091
DTSTAMP:20260419T144846
DTSTART:20100307T190000
DTEND:20100307T000000
SUMMARY:Cinema: "Las mujeres de verdad tienen curvas"
LOCATION:
METHOD:PUBLISH
X-WR-CALNAME:ullastrell@ullastrell.cat
X-WR-TIMEZONE:Europe/Madrid
DESCRIPTION:Cinema / Any: 2002 / Duració: 90 min. / Director: Patricia CardosoDrama / Comèdia / Sinopsis: Ana, una adolescent méxico-americana, està a punt de convertir-se en  dona. Viu en la comunitat hispana de l'Est de Los Àngeles, i recent acabat l'institut el seu professor l'anima perquè sol·liciti una beca  per a estudiar en la Universitat de Columbia. Però els seus tradicionals  pares pensen que no és temps per a estudiar, sinó per a ajudar a la  seva família. Dividida entre les seves ambicions personals i la seva  tradició cultural, accedeix a treballar amb la seva mare en la fàbrica  de costura de la seva germana, en el centre de Los Àngeles.(FILMAFFINITY)Lloc: Sala Actes CasalOrganitzador: Oncolliga
URI:https://www.ullastrell.cat/actualitat/agenda/cinema-las-mujeres-de-verdad-tienen-curvas.html
CLASS:PUBLIC
END:VEVENT
END:VCALENDAR
