BEGIN:VCALENDAR
VERSION:2.0
CALSCALE:GREGORIAN
PRODID:-//Diputació de Barcelona//DibaCMS//EN
BEGIN:VEVENT
UID:1092
DTSTAMP:20260423T174256
DTSTART:20090306T203000
DTEND:20090306T000000
SUMMARY:Xerrada sobre drogues
LOCATION:
METHOD:PUBLISH
X-WR-CALNAME:ullastrell@ullastrell.cat
X-WR-TIMEZONE:Europe/Madrid
DESCRIPTION:Aquesta xerrada és oberta a tots els joves del poble.
 
Quin és l'estat psicològic i de vegades físic que es caracteritza per la necessitat compulsiva de consumir una droga per experimentar els seus efectes psicològics?
Què ens ha passat abans de la droga?
Tots els tòxics provoquen hàbit?
Què és l'adicció? I la dependència?
Què vol dir la tolerància? I el síndrome d'abstinència? I la deshabituació?Lloc: Local de l'OJUOrganitzador: Ajuntament / OJU
URI:https://www.ullastrell.cat/actualitat/agenda/xerrada-sobre-drogues.html
CLASS:PUBLIC
END:VEVENT
END:VCALENDAR
