BEGIN:VCALENDAR
VERSION:2.0
CALSCALE:GREGORIAN
PRODID:-//Diputació de Barcelona//DibaCMS//EN
BEGIN:VEVENT
UID:1104
DTSTAMP:20260420T143809
DTSTART:20090531T000000
DTEND:20090531T000000
SUMMARY:Descobrim els vials del POUM
LOCATION:
METHOD:PUBLISH
X-WR-CALNAME:ullastrell@ullastrell.cat
X-WR-TIMEZONE:Europe/Madrid
DESCRIPTION:sortida per descobrir els vials del POUMLa secció local d'Esquerra Republicana de Catalunya, organitza una sortida pels voltants del poble per descobrir els vials del POUM ( Pla d'Ordenació Urbanística Municipal)Lloc: voltants del pobleOrganitzador: ERC
URI:https://www.ullastrell.cat/actualitat/agenda/descobrim-els-vials-del-poum.html
CLASS:PUBLIC
END:VEVENT
END:VCALENDAR
