BEGIN:VCALENDAR
VERSION:2.0
CALSCALE:GREGORIAN
PRODID:-//Diputació de Barcelona//DibaCMS//EN
BEGIN:VEVENT
UID:1105
DTSTAMP:20260420T091823
DTSTART:20090501T083000
DTEND:20090501T193000
SUMMARY:Excursió: "La Passió d'Esparreguera"
LOCATION:
METHOD:PUBLISH
X-WR-CALNAME:ullastrell@ullastrell.cat
X-WR-TIMEZONE:Europe/Madrid
DESCRIPTION:La Colla de la Gent Gran es trasllada fins a Esparreguera per veure la tradicional passió d'EsparregueraLloc: EsparregueraOrganitzador: Colla de la Gent Gran
URI:https://www.ullastrell.cat/actualitat/agenda/excursio-la-passio-desparreguera.html
CLASS:PUBLIC
END:VEVENT
END:VCALENDAR
