BEGIN:VCALENDAR
VERSION:2.0
CALSCALE:GREGORIAN
PRODID:-//Diputació de Barcelona//DibaCMS//EN
BEGIN:VEVENT
UID:1106
DTSTAMP:20260420T132454
DTSTART:20090513T080000
DTEND:20090513T193000
SUMMARY:Excursió: Girona
LOCATION:
METHOD:PUBLISH
X-WR-CALNAME:ullastrell@ullastrell.cat
X-WR-TIMEZONE:Europe/Madrid
DESCRIPTION:Aquesta vegada la Colla de la Gent Gran es desplaça fins a Girona per visitar la 54a Exposició de Flors.Lloc: GironaOrganitzador: Colla de la Gent Gran
URI:https://www.ullastrell.cat/actualitat/agenda/excursio-girona.html
CLASS:PUBLIC
END:VEVENT
END:VCALENDAR
