BEGIN:VCALENDAR
VERSION:2.0
CALSCALE:GREGORIAN
PRODID:-//Diputació de Barcelona//DibaCMS//EN
BEGIN:VEVENT
UID:1107
DTSTAMP:20260420T103516
DTSTART:20090603T203000
DTEND:20090603T223000
SUMMARY:Cicle xerrades " Les atencions bàsiques a la criatura"
LOCATION:
METHOD:PUBLISH
X-WR-CALNAME:ullastrell@ullastrell.cat
X-WR-TIMEZONE:Europe/Madrid
DESCRIPTION:Les atencions bàsiques a la criatura.


Es centra en aspectes pediàtrics i altres temes relacionats amb la prevenció d'accidents domèstics. El son, el plor, la higiene, la roba i l'alimentació.Lloc: LLar d'Infants El CucutOrganitzador: Ampa el Cucut/ LLar Els Menuts
URI:https://www.ullastrell.cat/actualitat/agenda/cicle-xerrades--les-atencions-basiques-a-la-criatura.html
CLASS:PUBLIC
END:VEVENT
END:VCALENDAR
