BEGIN:VCALENDAR
VERSION:2.0
CALSCALE:GREGORIAN
PRODID:-//Diputació de Barcelona//DibaCMS//EN
BEGIN:VEVENT
UID:1109
DTSTAMP:20260422T150204
DTSTART:20090613T180000
DTEND:20090613T230000
SUMMARY:Cloenda del Curs escolar
LOCATION:
METHOD:PUBLISH
X-WR-CALNAME:ullastrell@ullastrell.cat
X-WR-TIMEZONE:Europe/Madrid
DESCRIPTION:Activitats, jocs i sopar per despedir el curs escolarDesprés del concert a la sala d'actes, activitats, jocs i sopar a la pista poliesportiva per despedir el curs escolar 2008-09.Lloc: Pista poliesportivaOrganitzador: Ampa Serralavella
URI:https://www.ullastrell.cat/actualitat/agenda/cloenda-del-curs-escolar.html
CLASS:PUBLIC
END:VEVENT
END:VCALENDAR
