BEGIN:VCALENDAR
VERSION:2.0
CALSCALE:GREGORIAN
PRODID:-//Diputació de Barcelona//DibaCMS//EN
BEGIN:VEVENT
UID:1111
DTSTAMP:20260420T092453
DTSTART:20090621T193000
DTEND:20090621T000000
SUMMARY:Concert 14è aniversari de la Coral
LOCATION:
METHOD:PUBLISH
X-WR-CALNAME:ullastrell@ullastrell.cat
X-WR-TIMEZONE:Europe/Madrid
DESCRIPTION:Concert de celebració del 14è Aniversari de la Coral d'UllastrellA part del concert de la Coral d'Ullastrell, comptarem també amb la presència de la Coral de Talamanca. I per primera vegada en concert el Cor de Nens i Joves d'Ullastrell.
 
 
 
 
 Lloc: Casal Cultural i RecreatiuOrganitzador: Coral d'Ullastrell
URI:https://www.ullastrell.cat/actualitat/agenda/concert-14e-aniversari-de-la-coral.html
CLASS:PUBLIC
END:VEVENT
END:VCALENDAR
