BEGIN:VCALENDAR
VERSION:2.0
CALSCALE:GREGORIAN
PRODID:-//Diputació de Barcelona//DibaCMS//EN
BEGIN:VEVENT
UID:1112
DTSTAMP:20260420T122918
DTSTART:20090628T110000
DTEND:20090628T000000
SUMMARY:Festa cloenda del curs
LOCATION:
METHOD:PUBLISH
X-WR-CALNAME:ullastrell@ullastrell.cat
X-WR-TIMEZONE:Europe/Madrid
DESCRIPTION:Festa d'animació per despedir el curs 2008-09L'Ampa el Cucut ha proposat una festa per despedir el curs 2008-2009 a la pista poliesportiva amb l'animador Jaume BarriLloc: pista poliesportivaOrganitzador: Ampa el Cucut
URI:https://www.ullastrell.cat/actualitat/agenda/festa-cloenda-del-curs.html
CLASS:PUBLIC
END:VEVENT
END:VCALENDAR
