BEGIN:VCALENDAR
VERSION:2.0
CALSCALE:GREGORIAN
PRODID:-//Diputació de Barcelona//DibaCMS//EN
BEGIN:VEVENT
UID:1113
DTSTAMP:20260420T133015
DTSTART:20090629T100000
DTEND:20090729T140000
SUMMARY:Casal d'estiu - 29/06/2009
LOCATION:
METHOD:PUBLISH
X-WR-CALNAME:ullastrell@ullastrell.cat
X-WR-TIMEZONE:Europe/Madrid
DESCRIPTION:Començament dels Casal d'EstiuComença el casal d'estiu, amb servei d'acollida, menjador, ludoteca.Lloc: escola SerralavellaOrganitzador: Esplai 100Bambes
URI:https://www.ullastrell.cat/actualitat/agenda/casal-destiu-29062009.html
CLASS:PUBLIC
END:VEVENT
END:VCALENDAR
