BEGIN:VCALENDAR
VERSION:2.0
CALSCALE:GREGORIAN
PRODID:-//Diputació de Barcelona//DibaCMS//EN
BEGIN:VEVENT
UID:1115
DTSTAMP:20260420T132729
DTSTART:20090728T000000
DTEND:20090731T000000
SUMMARY:Colonies d'estiu - 28/07/2009
LOCATION:
METHOD:PUBLISH
X-WR-CALNAME:ullastrell@ullastrell.cat
X-WR-TIMEZONE:Europe/Madrid
DESCRIPTION:Els mitjans i els grans del casal d'estiu se'n van de colonies a BanyolesEls mitjans i els grans del casal d'estiu se'n van de colonies a Banyoles del 28 al 31 de juliol.Lloc: BanyolesOrganitzador: Esplai 100Bambes
URI:https://www.ullastrell.cat/actualitat/agenda/colonies-destiu-28072009.html
CLASS:PUBLIC
END:VEVENT
END:VCALENDAR
