BEGIN:VCALENDAR
VERSION:2.0
CALSCALE:GREGORIAN
PRODID:-//Diputació de Barcelona//DibaCMS//EN
BEGIN:VEVENT
UID:1116
DTSTAMP:20260420T131650
DTSTART:20090724T000000
DTEND:20090730T000000
SUMMARY:Campaments
LOCATION:
METHOD:PUBLISH
X-WR-CALNAME:ullastrell@ullastrell.cat
X-WR-TIMEZONE:Europe/Madrid
DESCRIPTION:Acampada pels joves del Casal d'estiu en un terreny d'acampada a SauAcampada pels joves del casal d'estiu a Sau del 24 al 30 de juliolLloc: SauOrganitzador: Esplai 100Bambes
URI:https://www.ullastrell.cat/actualitat/agenda/campaments.html
CLASS:PUBLIC
END:VEVENT
END:VCALENDAR
